BEGIN:VCALENDAR
VERSION:2.0
PRODID:-//ChamberMaster//Event Calendar 2.0//EN
METHOD:PUBLISH
X-PUBLISHED-TTL:P3D
REFRESH-INTERVAL:P3D
CALSCALE:GREGORIAN
BEGIN:VEVENT
DTSTART:20221110T150000Z
DTEND:20221110T200000Z
X-MICROSOFT-CDO-ALLDAYEVENT:FALSE
SUMMARY:11th Annual Hiring Red\, White & You! Job Fair
DESCRIPTION:This Statewide Job Fair connects transitioning service members\, military spouses\, National Guard\, Reserve\, veterans\, their family members and the General Public to employers looking to hire in our area. This event is open to ALL job seekers. Interact and Interview with Employers who are Hiring Now at this in-person event! It's time to make your next career move! We have over 150+ employers with over 5\,088+ job openings. Let us connect you with Tarrant County Employers who are hiring NOW! Job Seeker Registration is open\, don't miss this opportunity!
X-ALT-DESC;FMTTYPE=text/html:This Statewide Job Fair connects transitioning service members\, military spouses\, National Guard\, Reserve\, veterans\, their family members and the General Public to employers looking to hire in our area. This event is open to ALL job seekers. Interact and Interview with Employers who are Hiring Now at this in-person event! It&rsquo\;s time to make your next career move! We have over 150+ employers with over 5\,088+ job openings. Let us connect you with Tarrant County Employers who are hiring NOW! Job Seeker Registration is open\, don&#39\;t miss this opportunity!
LOCATION:Globe Life Field (new Rangers Stadium) - 734 Stadium Dr\, Arlington\, TX 76011
UID:e.642.27109
SEQUENCE:3
DTSTAMP:20260424T130342Z
URL:https://business.colleyvillechamber.org/events/details/11th-annual-hiring-red-white-you-job-fair-27109
END:VEVENT

END:VCALENDAR
