BEGIN:VCALENDAR
VERSION:2.0
PRODID:-//ChamberMaster//Event Calendar 2.0//EN
METHOD:PUBLISH
X-PUBLISHED-TTL:P3D
REFRESH-INTERVAL:P3D
CALSCALE:GREGORIAN
BEGIN:VEVENT
DTSTART:20120802T160000Z
DTEND:20120802T180000Z
X-MICROSOFT-CDO-ALLDAYEVENT:FALSE
SUMMARY:2012 August Monthly Luncheon
DESCRIPTION:Join the Colleyville Area Chamber to hear David Kelly\, Mayor of Colleyville and Jennifer Fadden\, City Manager speak about Colleyville's current state and what the residents and businesses can expect in the coming months.\n\n\n\nLunch will be catered by Mac's Steak & Seafood.
X-ALT-DESC;FMTTYPE=text/html:Join the Colleyville Area Chamber to hear David Kelly\, Mayor of Colleyville and Jennifer Fadden\, City Manager speak about Colleyville&#39\;s current state and what the residents and businesses can expect in the coming months.<br />\n<br />\nLunch will be catered by Mac&#39\;s Steak &amp\; Seafood.
LOCATION:Colleyville Center 5301 Riverwalk Drive Colleyville
UID:e.642.3817
SEQUENCE:3
DTSTAMP:20260423T135927Z
URL:https://business.colleyvillechamber.org/events/details/2012-august-monthly-luncheon-3817
END:VEVENT

END:VCALENDAR
