BEGIN:VCALENDAR
VERSION:2.0
PRODID:-//ChamberMaster//Event Calendar 2.0//EN
METHOD:PUBLISH
X-PUBLISHED-TTL:P3D
REFRESH-INTERVAL:P3D
CALSCALE:GREGORIAN
BEGIN:VEVENT
DTSTART:20121109T160000Z
DTEND:20121109T200000Z
X-MICROSOFT-CDO-ALLDAYEVENT:FALSE
SUMMARY:2012 Colleyville Chamber Expo
DESCRIPTION:The 2012 Colleyville Area Chamber of Commerce Expo\, the Chamber's annual trade show and networking event\, is designed to give members and attendees access to a variety of resources available in the community.  Participate in this event to connect with people in the community\, create opportunities for new business\, and continue to develop existing relationships.  For information and reservations call 817-488-7148.
X-ALT-DESC;FMTTYPE=text/html:The 2012 Colleyville Area Chamber of Commerce Expo\, the Chamber&#39\;s annual trade show and networking event\, is designed to give members and attendees access to a variety of resources available in the community.&nbsp\; Participate in this event to connect with people in the community\, create opportunities for new business\, and continue to develop existing relationships.&nbsp\; For information and reservations call 817-488-7148.&nbsp\; 
LOCATION:Compass Center (across from Compass Christian Church) 4201 Pool Road Grapevine\, Texas 76051
UID:e.642.5069
SEQUENCE:3
DTSTAMP:20260423T104350Z
URL:https://business.colleyvillechamber.org/events/details/2012-colleyville-chamber-expo-11-09-2012-5069
END:VEVENT

END:VCALENDAR
