BEGIN:VCALENDAR
VERSION:2.0
PRODID:-//ChamberMaster//Event Calendar 2.0//EN
METHOD:PUBLISH
X-PUBLISHED-TTL:P3D
REFRESH-INTERVAL:P3D
CALSCALE:GREGORIAN
BEGIN:VEVENT
DTSTART:20121206T170000Z
DTEND:20121206T190000Z
X-MICROSOFT-CDO-ALLDAYEVENT:FALSE
SUMMARY:2012 December Monthly Luncheon
DESCRIPTION:
X-ALT-DESC;FMTTYPE=text/html:
LOCATION:Crown of Life Lutheran Church & School 6605 Pleasant Run Rd. Colleyville
UID:e.642.3821
SEQUENCE:3
DTSTAMP:20260423T070046Z
URL:https://business.colleyvillechamber.org/events/details/2012-december-monthly-luncheon-3821
END:VEVENT

END:VCALENDAR
