BEGIN:VCALENDAR
VERSION:2.0
PRODID:-//ChamberMaster//Event Calendar 2.0//EN
METHOD:PUBLISH
X-PUBLISHED-TTL:P3D
REFRESH-INTERVAL:P3D
CALSCALE:GREGORIAN
BEGIN:VEVENT
DTSTART:20120711T150000Z
DTEND:20120711T180000Z
X-MICROSOFT-CDO-ALLDAYEVENT:FALSE
SUMMARY:2012 Empowered Women
DESCRIPTION:The annual empowered Woman's event showcases our area's dynamic and successful business women.  Listen to guest speakers Dorian Stacy Sims\, President\, of Stacy's Furniture and Rena Tarbet\, National Sales Director Emeriti for Mary Kay Cosmetics.  Terri Suresh\, Managing Director\, of eWomen Network and Owner/President of Hormonal Health & Wellness Center of Southlake will MC the event.  \n\n\n\nLunch will be catered by Buca di Beppo.
X-ALT-DESC;FMTTYPE=text/html:The annual empowered Woman&#39\;s event&nbsp\;showcases our area&#39\;s dynamic and successful business women.&nbsp\; Listen to guest speakers&nbsp\;Dorian Stacy Sims\, President\, of Stacy&#39\;s Furniture and Rena Tarbet\, National Sales Director Emeriti&nbsp\;for Mary Kay Cosmetics.&nbsp\;&nbsp\;Terri Suresh\, Managing Director\, of eWomen Network and Owner/President of Hormonal Health &amp\; Wellness Center of Southlake will MC the event.&nbsp\;&nbsp\;<br />\n<br />\nLunch will be catered by Buca di Beppo.&nbsp\;
LOCATION:Colleyville Center 5301 Riverwalk Drive Colleyville\, TX 76034
UID:e.642.3926
SEQUENCE:3
DTSTAMP:20260423T151807Z
URL:https://business.colleyvillechamber.org/events/details/2012-empowered-women-07-11-2012-3926
END:VEVENT

END:VCALENDAR
