BEGIN:VCALENDAR
VERSION:2.0
PRODID:-//ChamberMaster//Event Calendar 2.0//EN
METHOD:PUBLISH
X-PUBLISHED-TTL:P3D
REFRESH-INTERVAL:P3D
CALSCALE:GREGORIAN
BEGIN:VEVENT
DTSTART:20120910T160000Z
DTEND:20120910T230000Z
X-MICROSOFT-CDO-ALLDAYEVENT:FALSE
SUMMARY:2012 Golf Tournament
DESCRIPTION:BRM Roofing Presents The 24th Annual Colleyville Area Chamber of Commerce Golf Classic on Monday\, September 10th at Bear Creek Golf Club.  Registration will be held at the pavilion and will begin at 11:00am.  Lunch will be provided by Chick-fil-A and players tee off at 1:00pm.  Enjoy a various games such as a putting contest\, longest drive\, closest to pin and many more!\n\n\n\nPre-purchase Super Tickets and Raffle Tickets Today!  Super tickets are $25/each and include 2 Mulligan Passes\, 1 Raffle Ticket and 1 Poker Card for 5 Card Draw. \n\n\n\nRaffle tickets are $5/each or $20 for 5.  Prizes include rounds of golf from courses such as Timarron Country Club\, Iron Horse Golf Club\, Texas Star\, Sky Creek Ranch and Trophy Club.  Other prizes include Texas Ranges and Dallas Mavericks tickets\, car detail package\, restaurant gift certificates and many more!
X-ALT-DESC;FMTTYPE=text/html:BRM Roofing Presents The 24th Annual Colleyville Area Chamber of Commerce Golf Classic on Monday\, September 10th at Bear Creek Golf Club.&nbsp\; Registration&nbsp\;will be held at the pavilion and will&nbsp\;begin at 11:00am.&nbsp\; Lunch will be provided by Chick-fil-A and&nbsp\;players&nbsp\;tee off at 1:00pm.&nbsp\; Enjoy a various games such as a&nbsp\;putting contest\, longest drive\, closest to pin and many more!<br />\n<br />\nPre-purchase Super Tickets and Raffle Tickets Today!&nbsp\; Super tickets are $25/each and include 2 Mulligan Passes\, 1 Raffle Ticket and 1 Poker Card for 5 Card Draw.&nbsp\;<br />\n<br />\nRaffle tickets are $5/each or $20 for 5.&nbsp\; Prizes include rounds of golf from courses such as Timarron Country Club\, Iron Horse Golf Club\, Texas Star\, Sky Creek Ranch and Trophy Club.&nbsp\; Other prizes include Texas Ranges and Dallas Mavericks tickets\, car detail package\, restaurant gift certificates and many more!&nbsp\;<br />\n
LOCATION:Bear Creek Golf Club 3500 Bear Creek Ct. Dallas\, TX 75261
UID:e.642.4603
SEQUENCE:3
DTSTAMP:20260423T121749Z
URL:https://business.colleyvillechamber.org/events/details/2012-golf-tournament-09-10-2012-4603
END:VEVENT

END:VCALENDAR
