BEGIN:VCALENDAR
VERSION:2.0
PRODID:-//ChamberMaster//Event Calendar 2.0//EN
METHOD:PUBLISH
X-PUBLISHED-TTL:P3D
REFRESH-INTERVAL:P3D
CALSCALE:GREGORIAN
BEGIN:VEVENT
DTSTART:20121019T150000Z
DTEND:20121019T190000Z
X-MICROSOFT-CDO-ALLDAYEVENT:FALSE
SUMMARY:2012 Shining Stars Awards Luncheon
DESCRIPTION:The Arts League Shining Stars Awards Luncheon\, benefiting the programs and scholarships of Arts Council Northeast.  Features Rebecca Robinson\, Emcee\, Miss Texas 2008\, Raffle\, Live & Silent Auction.
X-ALT-DESC;FMTTYPE=text/html:The Arts League Shining Stars Awards Luncheon\, benefiting the programs and scholarships of Arts Council Northeast.&nbsp\; Features Rebecca Robinson\, Emcee\, Miss Texas 2008\, Raffle\, Live &amp\; Silent Auction.
LOCATION:Hurst Conference Center 1601 Campus Drive Hurst\, Texas
UID:e.642.5114
SEQUENCE:3
DTSTAMP:20260423T105206Z
URL:https://business.colleyvillechamber.org/events/details/2012-shining-stars-awards-luncheon-10-19-2012-5114
END:VEVENT

END:VCALENDAR
