BEGIN:VCALENDAR
VERSION:2.0
PRODID:-//ChamberMaster//Event Calendar 2.0//EN
METHOD:PUBLISH
X-PUBLISHED-TTL:P3D
REFRESH-INTERVAL:P3D
CALSCALE:GREGORIAN
BEGIN:VEVENT
DTSTART:20121103T143000Z
DTEND:20121103T170000Z
X-MICROSOFT-CDO-ALLDAYEVENT:FALSE
SUMMARY:2012 Veterans Fair
DESCRIPTION:The 2012 Veterans Fair is a fun and informative experience for the men and women who have served in our United States military. Over 30 organizations:\n\n- Veterans Benefits\n\n- Veterans Services\n\n- Veterans Programs
X-ALT-DESC;FMTTYPE=text/html:The 2012 Veterans Fair is a fun and informative experience for the men and women who have served in our United States military. Over 30 organizations:<br />\n- Veterans Benefits<br />\n- Veterans Services<br />\n- Veterans Programs<span _fck_bookmark="1" style="display: none">&nbsp\;</span>
LOCATION:Euless Family Life Center Ballroom 300 W. Midway Dr. Euless\, TX 76039 1. Main Entrance - off N. Main St. 2. Second Entrance - off W. Midway Rd.
UID:e.642.5125
SEQUENCE:3
DTSTAMP:20260423T103036Z
URL:https://business.colleyvillechamber.org/events/details/2012-veterans-fair-11-03-2012-5125
END:VEVENT

END:VCALENDAR
