BEGIN:VCALENDAR
VERSION:2.0
PRODID:-//ChamberMaster//Event Calendar 2.0//EN
METHOD:PUBLISH
X-PUBLISHED-TTL:P3D
REFRESH-INTERVAL:P3D
CALSCALE:GREGORIAN
BEGIN:VEVENT
DTSTART:20130613T223000Z
DTEND:20130614T003000Z
X-MICROSOFT-CDO-ALLDAYEVENT:FALSE
SUMMARY:2013 Business After Hours
DESCRIPTION:Networking event hosted by Colleyville Cinema Grill\, and sponsored by Water Works Pool Service.  Free to members\, non-members $5.00.  Food provided by Cinema.  Cash bar. \n\n\n\nIf a member brings a guest\, the member will receive $5.00 off the next membership luncheon.
X-ALT-DESC;FMTTYPE=text/html:Networking event hosted&nbsp\;by Colleyville Cinema Grill\, and sponsored by Water Works Pool Service.&nbsp\; Free to members\, non-members $5.00.&nbsp\; Food provided by Cinema.&nbsp\; Cash bar.&nbsp\;<br />\n<br />\nIf a member brings a guest\, the member will receive $5.00 off the next membership luncheon.<br />\n&nbsp\;
LOCATION:Colleyville Cinema Grill and IMAX Theatre 5655 Colleyville Blvd. Colleyville\, TX 76034
UID:e.642.5633
SEQUENCE:3
DTSTAMP:20260422T222440Z
URL:https://business.colleyvillechamber.org/events/details/2013-business-after-hours-5633
END:VEVENT

END:VCALENDAR
