BEGIN:VCALENDAR
VERSION:2.0
PRODID:-//ChamberMaster//Event Calendar 2.0//EN
METHOD:PUBLISH
X-PUBLISHED-TTL:P3D
REFRESH-INTERVAL:P3D
CALSCALE:GREGORIAN
BEGIN:VEVENT
DTSTART:20130428T220000Z
DTEND:20130429T020000Z
X-MICROSOFT-CDO-ALLDAYEVENT:FALSE
SUMMARY:2013 City Slickers
DESCRIPTION:AUCTION - FOOD - LIVE MUSIC - DRINKS\n\n		\n\n		In 2012\, over 1\,200 people attended the annual auction fundraiser. Attendees bid on auction items\, taste food from local restaurants\, enjoy an energetic atmosphere with live music\, networking and much more! This event offers fantastic exposure for your business and is a historic part of the Colleyville community.\n\n		\n\n		There are many ways for you to support the Chamber at this event:\n\n		\n\n		- Donate an auction item to promote your business\;\n\n		\n\n		- Sponsorship provides a variety of benefits promoting your business before\, during and after the event\;\n\n		\n\n		- Attend City Slickers and invite colleagues\, neighbors\, friends and relatives to join us in the festivities.\n\n		\n\n		Participate in the Gold Rush Reception hosted by JR's Steakhouse on March 26 from 5:00-7:00pm.  Price of admission is an auction item - everyone is invited to attend.  Hors d'oeuvres will be provided by JR's Steakhouse while you network and join the City Slickers celebration!
X-ALT-DESC;FMTTYPE=text/html:<div style="color: gray\;">\n	<p align="LEFT">\n		<font size="3"><strong>AUCTION - FOOD - LIVE MUSIC - DRINKS</strong><br />\n		<br />\n		In 2012\, over 1\,200 people attended the annual auction fundraiser. Attendees bid on auction items\, taste food from local restaurants\,&nbsp\;enjoy an energetic atmosphere with live music\, networking and much more!&nbsp\;This event offers fantastic exposure for your business and is a historic part of the Colleyville community.<br />\n		<br />\n		There are many ways for you to support the Chamber at this event:<br />\n		<br />\n		- <strong>Donate </strong>an auction item to promote your business\;<br />\n		<br />\n		- <strong>Sponsorship</strong> provides a variety of benefits promoting your business before\, during and after the event\;<br />\n		<br />\n		- <strong>Attend</strong> City Slickers and invite colleagues\, neighbors\, friends and relatives to join us in the festivities.<br />\n		<br />\n		Participate in the Gold Rush Reception hosted by JR&#39\;s Steakhouse on March 26 from 5:00-7:00pm.&nbsp\; Price of admission is an auction item - everyone is invited to attend.&nbsp\; Hors d&#39\;oeuvres will be provided by JR&#39\;s Steakhouse while you network and join&nbsp\;the City Slickers celebration!&nbsp\; </font></p>\n	<font size="3"><span _fck_bookmark="1" style="display: none\;">&nbsp\;</span></font></div>\n
LOCATION:Grapevine Convention Center 1201 S. Main Street Grapevine\, TX 76051
UID:e.642.5153
SEQUENCE:3
DTSTAMP:20260423T001033Z
URL:https://business.colleyvillechamber.org/events/details/2013-city-slickers-04-28-2013-5153
END:VEVENT

END:VCALENDAR
