BEGIN:VCALENDAR
VERSION:2.0
PRODID:-//ChamberMaster//Event Calendar 2.0//EN
METHOD:PUBLISH
X-PUBLISHED-TTL:P3D
REFRESH-INTERVAL:P3D
CALSCALE:GREGORIAN
BEGIN:VEVENT
DTSTART;VALUE=DATE:20130101
DTEND;VALUE=DATE:20130102
TRANSP:TRANSPARENT
X-MICROSOFT-CDO-ALLDAYEVENT:TRUE
SUMMARY:2013 Community Directory
DESCRIPTION:2013 Colleyville Community Directory
X-ALT-DESC;FMTTYPE=text/html:2013 Colleyville Community Directory
LOCATION:
UID:e.642.5000
SEQUENCE:3
DTSTAMP:20260423T051914Z
URL:https://business.colleyvillechamber.org/events/details/2013-community-directory-01-01-2013-5000
END:VEVENT

END:VCALENDAR
