BEGIN:VCALENDAR
VERSION:2.0
PRODID:-//ChamberMaster//Event Calendar 2.0//EN
METHOD:PUBLISH
X-PUBLISHED-TTL:P3D
REFRESH-INTERVAL:P3D
CALSCALE:GREGORIAN
BEGIN:VEVENT
DTSTART:20131205T170000Z
DTEND:20131205T190000Z
X-MICROSOFT-CDO-ALLDAYEVENT:FALSE
SUMMARY:2013 December Monthly Luncheon
DESCRIPTION:December Monthly Luncheon
X-ALT-DESC;FMTTYPE=text/html:December Monthly Luncheon
LOCATION:Colleyville Center
UID:e.642.5152
SEQUENCE:3
DTSTAMP:20260422T114134Z
URL:https://business.colleyvillechamber.org/events/details/2013-december-monthly-luncheon-5152
END:VEVENT

END:VCALENDAR
