BEGIN:VCALENDAR
VERSION:2.0
PRODID:-//ChamberMaster//Event Calendar 2.0//EN
METHOD:PUBLISH
X-PUBLISHED-TTL:P3D
REFRESH-INTERVAL:P3D
CALSCALE:GREGORIAN
BEGIN:VEVENT
DTSTART:20130717T153000Z
DTEND:20130717T180000Z
X-MICROSOFT-CDO-ALLDAYEVENT:FALSE
SUMMARY:2013 Empowered Woman
DESCRIPTION:Online registration for this event has been closed.  Please call the Chamber office at 817-488-7148 to inquire about availability. \n\n		\n\n		\n\n		Guest Speaker\n\n		Sharon Schieffer Mayes\n\n		Director of Penrose Foundation\n\n		Member of the Board of Trustees Cook Children's Medical Center\n\n		\n\n		Topic\n\n		As a career educator and retired school administrator\, having served in this community as a teacher\, vice principal and principal\, Sharon will share her life story growing up with brothers Bob and Tom Schieffer and how education empowers women to imagine\, achieve and prosper.
X-ALT-DESC;FMTTYPE=text/html:<div style="color: gray">\n	<p align="left">\n		<span style="font-size: 14px"><strong>Online registration for this event has been closed.&nbsp\; Please call the Chamber office at 817-488-7148 to inquire about availability. </strong></span><br />\n		<br />\n		<br />\n		<span style="color: rgb(255\,0\,0)"><font face="FuturaT-Bold"><font face="FuturaT-Bold"><font face="FuturaT-Bold"><strong>Guest Speaker</strong></font></font></font></span><br />\n		<font color="#231f20" face="FuturaT-Bold"><font color="#231f20" face="FuturaT-Bold"><font color="#231f20" face="FuturaT-Bold"><strong>Sharon Schieffer Mayes</strong><br />\n		Director of Penrose Foundation<br />\n		Member of the Board of Trustees Cook Children&#39\;s Medical Center</font></font></font><br />\n		<br />\n		<span style="color: rgb(255\,0\,0)"><font face="FuturaT-Bold"><font face="FuturaT-Bold"><font face="FuturaT-Bold"><strong>Topic</strong></font></font></font></span><br />\n		<font color="#231f20" face="FuturaT-Bold"><font color="#231f20" face="FuturaT-Bold"><font color="#231f20" face="FuturaT-Bold">As a career educator and retired school administrator\, having served in this community as a teacher\, vice principal and principal\, Sharon will share her life story growing up with brothers Bob and Tom Schieffer and how education empowers women to <em>imagine\, achieve</em> and <em>prosper.&nbsp\;</em></font></font></font></p>\n</div>\n<br />\n
LOCATION:Colleyville Center 5301 Riverwalk Dr. Colleyville\, TX 76034
UID:e.642.5143
SEQUENCE:3
DTSTAMP:20260422T193134Z
URL:https://business.colleyvillechamber.org/events/details/2013-empowered-woman-07-17-2013-5143
END:VEVENT

END:VCALENDAR
