BEGIN:VCALENDAR
VERSION:2.0
PRODID:-//ChamberMaster//Event Calendar 2.0//EN
METHOD:PUBLISH
X-PUBLISHED-TTL:P3D
REFRESH-INTERVAL:P3D
CALSCALE:GREGORIAN
BEGIN:VEVENT
DTSTART:20130909T180000Z
DTEND:20130909T230000Z
X-MICROSOFT-CDO-ALLDAYEVENT:FALSE
SUMMARY:2013 Golf Classic
DESCRIPTION:25th Annual Golf Tournament  sponsored by BRM Roofing.\n\n	1:00 p.m. Tee Off Time - scramble\n\n	\n\n	Dinner and Award ceremony at end of play.\n\n	\n\n	Sky Creek Ranch\n\n	600 Promontory Drive\n\n	Keller\, TX 76248
X-ALT-DESC;FMTTYPE=text/html:<p>\n	25th Annual Golf Tournament&nbsp\; sponsored by BRM Roofing.</p>\n<p>\n	1:00 p.m. Tee Off Time - scramble<br />\n	<br />\n	Dinner and Award ceremony at end of play.<br />\n	<br />\n	Sky Creek Ranch<br />\n	600 Promontory Drive<br />\n	Keller\, TX 76248</p>\n
LOCATION:Sky Creek Ranch 600 Promontory Drive Keller\, TX 76248
UID:e.642.5128
SEQUENCE:3
DTSTAMP:20260422T162728Z
URL:https://business.colleyvillechamber.org/events/details/2013-golf-classic-09-09-2013-5128
END:VEVENT

END:VCALENDAR
