BEGIN:VCALENDAR
VERSION:2.0
PRODID:-//ChamberMaster//Event Calendar 2.0//EN
METHOD:PUBLISH
X-PUBLISHED-TTL:P3D
REFRESH-INTERVAL:P3D
CALSCALE:GREGORIAN
BEGIN:VEVENT
DTSTART:20141210T140000Z
DTEND:20141210T220000Z
X-MICROSOFT-CDO-ALLDAYEVENT:FALSE
SUMMARY:2014-15 Leadership Colleyville (December)
DESCRIPTION:Transportation Day
X-ALT-DESC;FMTTYPE=text/html:Transportation Day
LOCATION:
UID:e.642.6907
SEQUENCE:3
DTSTAMP:20260421T153624Z
URL:https://business.colleyvillechamber.org/events/details/2014-15-leadership-colleyville-december-6907
END:VEVENT

END:VCALENDAR
