BEGIN:VCALENDAR
VERSION:2.0
PRODID:-//ChamberMaster//Event Calendar 2.0//EN
METHOD:PUBLISH
X-PUBLISHED-TTL:P3D
REFRESH-INTERVAL:P3D
CALSCALE:GREGORIAN
BEGIN:VEVENT
DTSTART:20140401T163000Z
DTEND:20140401T180000Z
X-MICROSOFT-CDO-ALLDAYEVENT:FALSE
SUMMARY:2014 20th Anniversary Ribbon Cutting - Twin Kell Cleaners
DESCRIPTION:Twin Kell Cleaners Celebrates 20 Years!\n\nJoin us for the Anniversary Ribbon Cutting on Tuesday April 1\, 2014
X-ALT-DESC;FMTTYPE=text/html:Twin Kell Cleaners Celebrates 20 Years!<br />\nJoin us for the Anniversary Ribbon Cutting on Tuesday April 1\, 2014
LOCATION:Twin Kell Cleaners 4902 Colleyville Boulevard\, Suite 100 Colleyville Texas
UID:e.642.6846
SEQUENCE:3
DTSTAMP:20260422T052022Z
URL:https://business.colleyvillechamber.org/events/details/2014-20th-anniversary-ribbon-cutting-twin-kell-cleaners-6846
END:VEVENT

END:VCALENDAR
