BEGIN:VCALENDAR
VERSION:2.0
PRODID:-//ChamberMaster//Event Calendar 2.0//EN
METHOD:PUBLISH
X-PUBLISHED-TTL:P3D
REFRESH-INTERVAL:P3D
CALSCALE:GREGORIAN
BEGIN:VEVENT
DTSTART:20140710T223000Z
DTEND:20140711T003000Z
X-MICROSOFT-CDO-ALLDAYEVENT:FALSE
SUMMARY:2014 Business After Hours
DESCRIPTION:Networking event.  Free to members\, non-members $5.00.
X-ALT-DESC;FMTTYPE=text/html:Networking event.&nbsp\; Free to members\, non-members $5.00.&nbsp\;<br />\n<br />\n&nbsp\;
LOCATION:Boi Na Braza Churrascaria Brazilian Steak House 4025 William D. Tate Grapevine\, TX 76051
UID:e.642.6886
SEQUENCE:3
DTSTAMP:20260421T235510Z
URL:https://business.colleyvillechamber.org/events/details/2014-business-after-hours-07-10-2014-6886
END:VEVENT

END:VCALENDAR
