BEGIN:VCALENDAR
VERSION:2.0
PRODID:-//ChamberMaster//Event Calendar 2.0//EN
METHOD:PUBLISH
X-PUBLISHED-TTL:P3D
REFRESH-INTERVAL:P3D
CALSCALE:GREGORIAN
BEGIN:VEVENT
DTSTART:20140413T220000Z
DTEND:20140414T020000Z
X-MICROSOFT-CDO-ALLDAYEVENT:FALSE
SUMMARY:2014 City Slickers
DESCRIPTION:AUCTION - FOOD - LIVE AUCTION - DRINKS!
X-ALT-DESC;FMTTYPE=text/html:AUCTION - FOOD - LIVE AUCTION - DRINKS!
LOCATION:Grapevine Convention Center
UID:e.642.5755
SEQUENCE:3
DTSTAMP:20260422T051936Z
URL:https://business.colleyvillechamber.org/events/details/2014-city-slickers-04-13-2014-5755
END:VEVENT

END:VCALENDAR
