BEGIN:VCALENDAR
VERSION:2.0
PRODID:-//ChamberMaster//Event Calendar 2.0//EN
METHOD:PUBLISH
X-PUBLISHED-TTL:P3D
REFRESH-INTERVAL:P3D
CALSCALE:GREGORIAN
BEGIN:VEVENT
DTSTART:20140318T223000Z
DTEND:20140319T003000Z
X-MICROSOFT-CDO-ALLDAYEVENT:FALSE
SUMMARY:2014 City Slickers Preview Party
DESCRIPTION:Join us for this complimentary Member event as we celebrate the arrival of City Slickers!  Select auction items will be on hand for preview and pre-bidding.  Hors d'oeuvres provided by Ferrari's Italian Villa.  Cash bar available.
X-ALT-DESC;FMTTYPE=text/html:<span style="font-size: 12px\;"><span style="font-family: tahoma\;"><span style="language: en-US\;"><span style="color: black\;">Join us for this complimentary Member event as we celebrate&nbsp\;the arrival of City Slickers!&nbsp\; Select auction items will be on hand for preview and pre-bidding.&nbsp\; </span></span><font color="#000000">Hors <span style="language: en-US\;"><span style="color: black\;">d&rsquo\;oeuvres </span></span></font><span style="language: en-US\;"><span style="color: black\;">provided by Ferrari&rsquo\;s Italian Villa.&nbsp\; C</span></span><span style="language: en-US\;"><span style="color: black\;">ash bar available.</span></span></span></span><br />\n<br />\n&nbsp\;
LOCATION:Ferrari's Italian Villa 1200 William D. Tate Avenue Grapevine
UID:e.642.6843
SEQUENCE:3
DTSTAMP:20260422T065859Z
URL:https://business.colleyvillechamber.org/events/details/2014-city-slickers-preview-party-03-18-2014-6843
END:VEVENT

END:VCALENDAR
