BEGIN:VCALENDAR
VERSION:2.0
PRODID:-//ChamberMaster//Event Calendar 2.0//EN
METHOD:PUBLISH
X-PUBLISHED-TTL:P3D
REFRESH-INTERVAL:P3D
CALSCALE:GREGORIAN
BEGIN:VEVENT
DTSTART:20140716T153000Z
DTEND:20140716T180000Z
X-MICROSOFT-CDO-ALLDAYEVENT:FALSE
SUMMARY:2014 Empowered Woman
DESCRIPTION:Please call 817.488.7148 for ticket information.\n\n\n\nJoin a dynamic group of successful women in our community and enjoy lunch\, do some shopping and enter to win a raffle prize!  \n\n\n\nThe EMPOWERED WOMAN guest speaker\, Colleen Walker\, is the new CEO of the Perot Museum of Nature and Science. \n\n\n\nWalker\, who has served as CEO of the Girl Scouts of Northeast Texas since 2007\, took over the position on June 1 of this year.  \n\n\n\nIn recognition of her leadership\, Ms. Walker has been honored by Dallas Business Journal as one of the "Top 25 Female Business Leaders in Dallas" and by Women's Council of Dallas as "Woman of the Year."
X-ALT-DESC;FMTTYPE=text/html:<p><span style="font-family: arial\;"><strong><span style="color: rgb(255\, 0\, 0)\;"><span style="font-size: 18px\;">Please call 817.488.7148 for ticket information.</span></span><br />\n<br />\nJoin a dynamic group of successful women in our community and enjoy lunch\, do some shopping and enter to win a raffle prize!</strong>&nbsp\;&nbsp\;<br />\n<br />\nThe&nbsp\;<span style="color: rgb(255\, 0\, 0)\;">EMPOWERED WOMAN&nbsp\;</span>guest speaker\, Colleen Walker\, is the new CEO of the Perot Museum of Nature and Science.&nbsp\;<br />\n<br />\nWalker\, who has served as CEO of the Girl Scouts of Northeast Texas since 2007\, took over the position on June 1 of this year.&nbsp\; </span><br />\n<br />\nIn recognition of her leadership\, Ms. Walker has been honored by Dallas Business Journal as one of the &quot\;Top 25 Female Business Leaders in Dallas&quot\; and by Women&#39\;s Council of Dallas as &quot\;Woman of the Year.&quot\;<br />\n<br />\n&nbsp\;</p>\n
LOCATION:Piazza in the Village 77 Piazza Lane Colleyville\, Texas
UID:e.642.5751
SEQUENCE:3
DTSTAMP:20260422T013711Z
URL:https://business.colleyvillechamber.org/events/details/2014-empowered-woman-07-16-2014-5751
END:VEVENT

END:VCALENDAR
