BEGIN:VCALENDAR
VERSION:2.0
PRODID:-//ChamberMaster//Event Calendar 2.0//EN
METHOD:PUBLISH
X-PUBLISHED-TTL:P3D
REFRESH-INTERVAL:P3D
CALSCALE:GREGORIAN
BEGIN:VEVENT
DTSTART:20141014T130000Z
DTEND:20141014T143000Z
X-MICROSOFT-CDO-ALLDAYEVENT:FALSE
SUMMARY:2014 Fall Seminar Series
DESCRIPTION:Topic:  Do you speak SEO and SEM?  Learn how to optimize your website\, plus how to benefit your social media with tags\, hashtags\, etc.\n\n\n\nSpeaker:  Michael Burns\, Partner and SEO expert for i5 Webworks\n\n\n\nLocation: Dallas Baptist University\, Hurst-Colleyville
X-ALT-DESC;FMTTYPE=text/html:<strong>Topic:</strong>&nbsp\; Do you speak SEO and SEM?&nbsp\; Learn how to optimize your website\, plus how to benefit your social media with tags\, hashtags\, etc.<br />\n<br />\n<strong>Speaker:</strong>&nbsp\; Michael Burns\, Partner and SEO expert for i5 Webworks<br />\n<br />\n<strong>Location:</strong> Dallas Baptist University\, Hurst-Colleyville
LOCATION:DBU Hurst-Colleyville 110 Grapevine Hwy. Hurst
UID:e.642.6928
SEQUENCE:3
DTSTAMP:20260421T185450Z
URL:https://business.colleyvillechamber.org/events/details/2014-fall-seminar-series-10-14-2014-6928
END:VEVENT

END:VCALENDAR
