BEGIN:VCALENDAR
VERSION:2.0
PRODID:-//ChamberMaster//Event Calendar 2.0//EN
METHOD:PUBLISH
X-PUBLISHED-TTL:P3D
REFRESH-INTERVAL:P3D
CALSCALE:GREGORIAN
BEGIN:VEVENT
DTSTART:20141111T140000Z
DTEND:20141111T153000Z
X-MICROSOFT-CDO-ALLDAYEVENT:FALSE
SUMMARY:2014 Fall Seminar Series
DESCRIPTION:Topic: Working a Room to Gain Powerful Connections (It's about the quality of contacts you make\, not the quantity!)\n\n\n\nSpeaker:  Rebecca Barksdale of Tarrant County Commissioner Gary's Fickes Office\n\n\n\nLocation: DBU Hurst-Colleyville
X-ALT-DESC;FMTTYPE=text/html:<strong>Topic:&nbsp\;</strong>Working a Room to Gain Powerful Connections (It&#39\;s about the quality of contacts you make\, not the quantity!)<br />\n<br />\n<strong>Speaker:</strong>&nbsp\; Rebecca Barksdale of Tarrant County Commissioner Gary&#39\;s Fickes Office<br />\n<br />\n<strong>Location:</strong> DBU Hurst-Colleyville
LOCATION:DBU Hurst-Colleyville 110 Grapevine Highway Hurst
UID:e.642.6929
SEQUENCE:3
DTSTAMP:20260421T171703Z
URL:https://business.colleyvillechamber.org/events/details/2014-fall-seminar-series-11-11-2014-6929
END:VEVENT

END:VCALENDAR
