BEGIN:VCALENDAR
VERSION:2.0
PRODID:-//ChamberMaster//Event Calendar 2.0//EN
METHOD:PUBLISH
X-PUBLISHED-TTL:P3D
REFRESH-INTERVAL:P3D
CALSCALE:GREGORIAN
BEGIN:VEVENT
DTSTART:20140306T170000Z
DTEND:20140306T190000Z
X-MICROSOFT-CDO-ALLDAYEVENT:FALSE
SUMMARY:2014 March Monthly Luncheon
DESCRIPTION:Guest Speaker:  Dr Robin Ryan\, GCISD Superintendent\n\nTopic:  State of the School District
X-ALT-DESC;FMTTYPE=text/html:Guest Speaker:&nbsp\; Dr Robin Ryan\, GCISD Superintendent<br />\nTopic:&nbsp\; State of the School District<br />\n<br />\n&nbsp\;
LOCATION:Crown of Life Church and School Pleasant Run Road Colleyville Texas 76034
UID:e.642.5723
SEQUENCE:3
DTSTAMP:20260422T065618Z
URL:https://business.colleyvillechamber.org/events/details/2014-march-monthly-luncheon-5723
END:VEVENT

END:VCALENDAR
