BEGIN:VCALENDAR
VERSION:2.0
PRODID:-//ChamberMaster//Event Calendar 2.0//EN
METHOD:PUBLISH
X-PUBLISHED-TTL:P3D
REFRESH-INTERVAL:P3D
CALSCALE:GREGORIAN
BEGIN:VEVENT
DTSTART:20150426T220000Z
DTEND:20150427T020000Z
X-MICROSOFT-CDO-ALLDAYEVENT:FALSE
SUMMARY:2015 City Slickers
DESCRIPTION:Good Eats & Drinks | Silent & Live Auction   Live Music\n\nHurst Conference Center\n\nTickets: $15 Each or $25 for Two\n\n\n\nCity Slickers is the chamber's largest fundraising event which benefits a variety of programs and helps to fulfill the Chamber mission\, "To promote the economic\, civic and cultural well-being of the Colleyville area." \n\n\n\nTo Purchase Tickets or Donate Online Click Here\n\nParticipate in the 32nd Annual City Slickers Auction - A Community Tradition\n\nThere are many ways to participate:\n\n~ Sponsor\n\n~ Attend\n\n~ Donate\n\n~ Volunteer \n\n\n\nPromote Your Business by Donating an Auction Item!\n\nClick Here for Printable Donation Form. Email to info@colleyvillechamber.org.\n\nTo learn more about how you can be involved\, call 817.488.7148.
X-ALT-DESC;FMTTYPE=text/html:<p><font style="font-size: 10pt\;"><font face="Arial"><span style="color: rgb(165\, 42\, 42)\;"><span style="font-family: verdana\;"><strong>Good Eats &amp\; Drinks | Silent &amp\; Live Auction&nbsp\;&nbsp\; Live Music</strong><br />\nHurst Conference Center<br />\nTickets: $15 Each or $25 for Two</span></span><br />\n<br />\nCity Slickers is the chamber&#39\;s largest fundraising event which benefits a variety of programs and helps to fulfill the Chamber mission\, &quot\;<em>To promote the economic\, civic and cultural well-being of the Colleyville area.</em></font><font face="Arial"><em>&quot\;</em><font style="text-align: center\;">&nbsp\;</font></font></font><br />\n<br />\n<span style="color: rgb(255\, 0\, 0)\;"><strong>To Purchase Tickets or Donate Online </strong></span><strong><a href="http://colleyvillechamber.ejoinme.org/MyEvents/HomePage/tabid/674965/Default.aspx"><span style="color: rgb(0\, 0\, 205)\;">Click Here</span></a></strong></p>\n\n<p><span style="color: rgb(165\, 42\, 42)\;"><span style="font-family: arial\;"><strong style="font-family: &quot\;Trebuchet MS&quot\;\, Verdana\, Helvetica\, sans-serif\; font-size: 12pt\;"><font style="font-size: 10pt\;">Participate in the 32nd Annual City Slickers Auction - A Community&nbsp\;</font></strong><strong><font style="font-size: 10pt\;">Tradition</font></strong></span></span></p>\n\n<p><font style="font-size: 10pt\;">There are many ways to participate:<br />\n~ Sponsor<br />\n~ Attend<br />\n~ Donate<br />\n~ Volunteer </font><br />\n<br />\n<span style="color: rgb(165\, 42\, 42)\;"><strong>Promote Your Business by Donating an Auction Item!</strong></span><br />\n<u><a href="http://cloud.chambermaster.com/userfiles/UserFiles/chambers/642/File/2015CitySlickersAuctionItemDonationForm.pdf"><span style="color: rgb(0\, 0\, 205)\;">Click Here</span></a></u> for Printable Donation Form. Email to <u><a href="mailto:info@colleyvillechamber.org?subject=Auction%20Donation"><span style="color: rgb(0\, 0\, 205)\;">info@colleyvillechamber.org</span></a></u>.</p>\n\n<p><font style="font-size: 10pt\;">To learn more about how you can be involved\, call 817.488.7148.</font></p>\n
LOCATION:Hurst Conference Center 1601 Campus Drive Hurst\, TX 76054
UID:e.642.7032
SEQUENCE:3
DTSTAMP:20260421T100715Z
URL:https://business.colleyvillechamber.org/events/details/2015-city-slickers-04-26-2015-7032
END:VEVENT

END:VCALENDAR
