BEGIN:VCALENDAR
VERSION:2.0
PRODID:-//ChamberMaster//Event Calendar 2.0//EN
METHOD:PUBLISH
X-PUBLISHED-TTL:P3D
REFRESH-INTERVAL:P3D
CALSCALE:GREGORIAN
BEGIN:VEVENT
DTSTART:20150218T140000Z
DTEND:20150218T220000Z
X-MICROSOFT-CDO-ALLDAYEVENT:FALSE
SUMMARY:2015 Leadership Colleyville (february)
DESCRIPTION:Education Day
X-ALT-DESC;FMTTYPE=text/html:Education Day
LOCATION:
UID:e.642.6909
SEQUENCE:3
DTSTAMP:20260421T140907Z
URL:https://business.colleyvillechamber.org/events/details/2015-leadership-colleyville-february-6909
END:VEVENT

END:VCALENDAR
