BEGIN:VCALENDAR
VERSION:2.0
PRODID:-//ChamberMaster//Event Calendar 2.0//EN
METHOD:PUBLISH
X-PUBLISHED-TTL:P3D
REFRESH-INTERVAL:P3D
CALSCALE:GREGORIAN
BEGIN:VEVENT
DTSTART:20150122T170000Z
DTEND:20150122T190000Z
X-MICROSOFT-CDO-ALLDAYEVENT:FALSE
SUMMARY:2015 Sterling Awards Luncheon
DESCRIPTION:Each year we recognize both outstanding members and area citizens by distributing awards including\, Citizen of the Year\, the Leadership Award\, Youth of the Year and GCISD Employee of the Year. \n\n\n\n\n\nCall 817.488.7148 for more information.
X-ALT-DESC;FMTTYPE=text/html:Each year we recognize both outstanding members and area citizens by distributing awards including\, Citizen of the Year\, the Leadership Award\, Youth of the Year and GCISD Employee of the Year.&nbsp\;<br />\n<br />\n<br />\nCall 817.488.7148 for more information.
LOCATION:Piazza in the Village 77 Piazza Lane Colleyville\, TX 76034
UID:e.642.6831
SEQUENCE:3
DTSTAMP:20260421T152507Z
URL:https://business.colleyvillechamber.org/events/details/2015-sterling-awards-luncheon-01-22-2015-6831
END:VEVENT

END:VCALENDAR
