BEGIN:VCALENDAR
VERSION:2.0
PRODID:-//ChamberMaster//Event Calendar 2.0//EN
METHOD:PUBLISH
X-PUBLISHED-TTL:P3D
REFRESH-INTERVAL:P3D
CALSCALE:GREGORIAN
BEGIN:VEVENT
DTSTART:20221116T163000Z
DTEND:20221116T190000Z
X-MICROSOFT-CDO-ALLDAYEVENT:FALSE
SUMMARY:2022 WOW! Women of Worth
DESCRIPTION:Empowering Women has taken on a NEW IDENTITY: WOW! Women of Worth\, will be held on Wednesday\,  November 16th.  Please join event chair Tamika Taylor with The Evolution Collective as The Colleyville Chamber invites women in the business community to join us for a day of empowerment and joy! This is an event for YOU and your colleagues to be inspired and empowered to lead with JOY! Walk the red carpet\, network with other powerhouses\, and come away with new ideas to take you to the next level!
X-ALT-DESC;FMTTYPE=text/html:<p><span style="font-size:14px\;"><span style="font-family:tahoma\;">Empowering Women has taken on a NEW IDENTITY: WOW! Women of Worth\, will be held on Wednesday\,&nbsp\;&nbsp\;November 16<sup>th</sup>.&nbsp\;&nbsp\;Please join event chair&nbsp\;Tamika Taylor with The Evolution Collective as The Colleyville Chamber invites women in the business community to join us for a day of empowerment and joy! This is an event for YOU and your colleagues to be inspired and empowered to lead with JOY! Walk the red carpet\, network with other powerhouses\, and come away with new ideas to take you to the next level!&nbsp\;</span></span><br />\n&nbsp\;</p>\n
LOCATION:Look Cinemas
UID:e.642.26319
SEQUENCE:3
DTSTAMP:20260424T130248Z
URL:https://business.colleyvillechamber.org/events/details/2022-wow-women-of-worth-26319
END:VEVENT

END:VCALENDAR
