BEGIN:VCALENDAR
VERSION:2.0
PRODID:-//ChamberMaster//Event Calendar 2.0//EN
METHOD:PUBLISH
X-PUBLISHED-TTL:P3D
REFRESH-INTERVAL:P3D
CALSCALE:GREGORIAN
BEGIN:VEVENT
DTSTART:20230918T113000Z
DTEND:20230918T190000Z
X-MICROSOFT-CDO-ALLDAYEVENT:FALSE
SUMMARY:2023 Golf Classic
DESCRIPTION:Please join us on\n\nMonday\, September 18th\n\nfor the Annual\n\nColleyville Chamber Golf Classic!
X-ALT-DESC;FMTTYPE=text/html:<div style="text-align: center\;"><br />\n<span style="font-size:36px\;"><strong>Please join us on<br />\nMonday\, September 18th<br />\nfor the Annual<br />\nColleyville Chamber Golf Classic!</strong></span><br />\n&nbsp\;</div>\n<scribe-shadow data-crx="okfkdaglfjjjfefdcppliegebpoegaii" id="crxjs-ext" style="position: fixed\; width: 0px\; height: 0px\; top: 0px\; left: 0px\; z-index: 2147483647\; overflow: visible\; visibility: visible\;"></scribe-shadow>
LOCATION:Sky Creek Ranch Golf Club 600 Promontory Drive Keller\, TX 76248
UID:e.642.27155
SEQUENCE:3
DTSTAMP:20260423T211805Z
URL:https://business.colleyvillechamber.org/events/details/2023-golf-classic-27155
END:VEVENT

END:VCALENDAR
