BEGIN:VCALENDAR
VERSION:2.0
PRODID:-//ChamberMaster//Event Calendar 2.0//EN
METHOD:PUBLISH
X-PUBLISHED-TTL:P3D
REFRESH-INTERVAL:P3D
CALSCALE:GREGORIAN
BEGIN:VEVENT
DTSTART:20131112T233000Z
DTEND:20131113T020000Z
X-MICROSOFT-CDO-ALLDAYEVENT:FALSE
SUMMARY:21st Annual Classic Chili Cook-Off
DESCRIPTION:Multi Chamber Business Mixer sponsored by Classic Chevrolet.   This is a great networking event! \n\nLocation:  Classic Hummer in Grapevine\n\n2501 William D. Tate Ave\, Grapevine\n\n5:30 - 8 p.m.\n\n\n\nAttendees may bring canned goods to be donated to the GRACE Food Pantry.
X-ALT-DESC;FMTTYPE=text/html:Multi Chamber Business Mixer sponsored by Classic Chevrolet.&nbsp\;&nbsp\; This is a great networking event!&nbsp\;<br />\nLocation:&nbsp\; Classic Hummer in Grapevine<br />\n2501 William D. Tate Ave\, Grapevine<br />\n5:30 - 8 p.m.<br />\n<br />\nAttendees may bring canned goods to be donated to the GRACE Food Pantry.
LOCATION:
UID:e.642.5707
SEQUENCE:3
DTSTAMP:20260422T130637Z
URL:https://business.colleyvillechamber.org/events/details/21st-annual-classic-chili-cook-off-11-12-2013-5707
END:VEVENT

END:VCALENDAR
