BEGIN:VCALENDAR
VERSION:2.0
PRODID:-//ChamberMaster//Event Calendar 2.0//EN
METHOD:PUBLISH
X-PUBLISHED-TTL:P3D
REFRESH-INTERVAL:P3D
CALSCALE:GREGORIAN
BEGIN:VEVENT
DTSTART:20130118T003000Z
DTEND:20130118T040000Z
X-MICROSOFT-CDO-ALLDAYEVENT:FALSE
SUMMARY:37th Annual Awards Banquet
DESCRIPTION:Each year the Colleyville Area Chamber of Commerce recognizes both outstanding members and area citizens by distributing awards including\, Citizen of the Year\, the Leadership Award\, Member of the Year\, Business of the Year and many more.  Individuals who have served on the Board of Directors during the previous year are recognized for their service and individuals assuming a new role on the Board of Directors are introduced.  Chamber members\, City officials\, community leaders and local businesses attend the annual event to pay homage to the previous year and celebrate the future!
X-ALT-DESC;FMTTYPE=text/html:<div style="color: gray">\n	<span style="font-size: medium"><span style="font-family: cambria">Each year&nbsp\;the Colleyville&nbsp\;Area Chamber of Commerce&nbsp\;recognizes both outstanding members and area citizens by distributing awards including\, Citizen of the Year\, the&nbsp\;Leadership Award\,&nbsp\;Member of the Year\, Business of the Year&nbsp\;and many more.&nbsp\; Individuals&nbsp\;who have served on the Board of Directors during the previous year are recognized for their service and individuals assuming a new role on the Board of Directors&nbsp\;are introduced.&nbsp\;&nbsp\;Chamber members\, City officials\, community leaders and local businesses attend the annual event to pay homage to the previous year and celebrate the future!&nbsp\;&nbsp\;</span></span><br />\n	&nbsp\;</div>\n
LOCATION:Hurst Convention Center 1601 Campus Drive Hurst\, Texas 76054
UID:e.642.5136
SEQUENCE:3
DTSTAMP:20260423T053601Z
URL:https://business.colleyvillechamber.org/events/details/37th-annual-awards-banquet-01-17-2013-5136
END:VEVENT

END:VCALENDAR
