BEGIN:VCALENDAR
VERSION:2.0
PRODID:-//ChamberMaster//Event Calendar 2.0//EN
METHOD:PUBLISH
X-PUBLISHED-TTL:P3D
REFRESH-INTERVAL:P3D
CALSCALE:GREGORIAN
BEGIN:VEVENT
DTSTART:20150425T180000Z
DTEND:20150425T210000Z
X-MICROSOFT-CDO-ALLDAYEVENT:FALSE
SUMMARY:50's Sock Hop
DESCRIPTION:Join us for a rockin' good time as U.S. Memory Care and Celebration Magazine present a 50's Sock Hop!  Ladies\, put on your saddle oxfords and poodle skirt\; guys grab your leather jacket and come enjoy Free Fun for the whole family! We'll be serving chili dogs and root beer floats while Grease plays in our in-house theatre! There will be a hula-hoop contest\, a fun photo booth\, and a FREE car wash with donations benefiting the Alzheimer's Association of North Central Texas.  For more information\, please call 817-500-5006 or email dcorona@usmemorycare.com .
X-ALT-DESC;FMTTYPE=text/html:Join us for a rockin&rsquo\; good time as U.S. Memory Care and Celebration Magazine present a 50&rsquo\;s Sock Hop!&nbsp\; Ladies\, put on your saddle oxfords and poodle skirt\; guys grab your leather jacket and come enjoy Free Fun for the whole family! We&rsquo\;ll be serving chili dogs and root beer floats while Grease plays in our in-house theatre! There will be a hula-hoop contest\, a fun photo booth\, and a FREE car wash with donations benefiting the Alzheimer&rsquo\;s Association of North Central Texas.&nbsp\; For more information\, please call 817-500-5006 or email <a href="mailto:dcorona@usmemorycare.com">dcorona@usmemorycare.com</a> .<br />\n&nbsp\;<br />\n&nbsp\;
LOCATION:US Memory Care\, 8100 Precinct Line Road\, Colleyville\, TX 76034
UID:e.642.7555
SEQUENCE:3
DTSTAMP:20260421T082459Z
URL:https://business.colleyvillechamber.org/events/details/50-s-sock-hop-04-25-2015-7555
END:VEVENT

END:VCALENDAR
