BEGIN:VCALENDAR
VERSION:2.0
PRODID:-//ChamberMaster//Event Calendar 2.0//EN
METHOD:PUBLISH
X-PUBLISHED-TTL:P3D
REFRESH-INTERVAL:P3D
CALSCALE:GREGORIAN
BEGIN:VEVENT
DTSTART:20140329T150000Z
DTEND:20140329T210000Z
X-MICROSOFT-CDO-ALLDAYEVENT:FALSE
SUMMARY:$99 EKG & Echocardiogram
DESCRIPTION:Limited Slots available\, call and schedule your appointment today! \n\nHCM-Hypertrophic Cardiomyopathy\, is responsible for the death of school-age athletes and young adults across the U.S. every year.  HCM is a silent killer\, in most cases the first symptom is cardiac arrest. Yet\, it cannot be found by x-rays or routine blood testing\, and school physicals almost never pick it up. \n\nAn ECHOcardiogram can detect HCM in a few minutes using painless ultrasound waves. But health insurance does not cover this screening\, which typically cost over $1000. \n\nYou can schedule a Health eHeart exam March 29th\, that includes and ECHO and EKG for only $99.
X-ALT-DESC;FMTTYPE=text/html:Limited Slots available\, call and schedule your appointment today!&nbsp\;<br />\nHCM-Hypertrophic Cardiomyopathy\, is responsible for the death of school-age athletes and young adults across the U.S. every year.&nbsp\;&nbsp\;HCM is a silent killer\, in most cases the first symptom is cardiac arrest. Yet\, it cannot be found by x-rays or routine blood testing\, and school physicals almost never pick it up.&nbsp\;<br />\nAn ECHOcardiogram can detect HCM in a few minutes using painless ultrasound waves. But health insurance does not cover this screening\, which typically cost over $1000.&nbsp\;<br />\nYou can schedule a Health eHeart exam March 29th\, that includes and ECHO and EKG for only $99.
LOCATION:Colleyville Medical Clinic 6400 Colleyville Blvd. Colleyville\, TX. 76034
UID:e.642.6849
SEQUENCE:3
DTSTAMP:20260422T065516Z
URL:https://business.colleyvillechamber.org/events/details/99-ekg-echocardiogram-03-29-2014-6849
END:VEVENT

END:VCALENDAR
