BEGIN:VCALENDAR
VERSION:2.0
PRODID:-//ChamberMaster//Event Calendar 2.0//EN
METHOD:PUBLISH
X-PUBLISHED-TTL:P3D
REFRESH-INTERVAL:P3D
CALSCALE:GREGORIAN
BEGIN:VEVENT
DTSTART:20141101T230000Z
DTEND:20141102T040000Z
X-MICROSOFT-CDO-ALLDAYEVENT:FALSE
SUMMARY:A Night in Spain
DESCRIPTION:Bacon's Bistro and Caf  and Pilar's Kitchen presents A Night in Spain Tapas Dinner Join us as we serve our authentic Spanish Tapas. Reservations are required and the table is yours for the rest of the evening. It is a BYOB event with a complimentary glass of our Sangria.
X-ALT-DESC;FMTTYPE=text/html:Bacon&#39\;s Bistro and Caf&eacute\; and Pilar&#39\;s Kitchen presents A Night in Spain Tapas Dinner Join us as we serve our authentic Spanish Tapas. Reservations are required and the table is yours for the rest of the evening. It is a BYOB event with a complimentary glass of our Sangria.
LOCATION:Bacon's Bistro & Caf 714 Suite A Grapevine Hwy Hurst\, TX 76054
UID:e.642.7033
SEQUENCE:3
DTSTAMP:20260421T171723Z
URL:https://business.colleyvillechamber.org/events/details/a-night-in-spain-11-01-2014-7033
END:VEVENT

END:VCALENDAR
