BEGIN:VCALENDAR
VERSION:2.0
PRODID:-//ChamberMaster//Event Calendar 2.0//EN
METHOD:PUBLISH
X-PUBLISHED-TTL:P3D
REFRESH-INTERVAL:P3D
CALSCALE:GREGORIAN
BEGIN:VEVENT
DTSTART:20130806T223000Z
DTEND:20130807T003000Z
X-MICROSOFT-CDO-ALLDAYEVENT:FALSE
SUMMARY:A Whimsical Evening Auction Party - North Texas SNAP
DESCRIPTION:Gene and Cecilia Monacelli have graciously opened their home to host this year's A Whimsical Evening Auction Party to support North Texas SNAP's Annual Gala.\n\n\n\nGuests of this private event will enjoy delicious appetizers\, sangria\, beer and wine. In addition\, tickets to the event will be available for purchase as well as raffle tickets for an iPad or BBQ Grill.\n\n\n\nEntry into this exclusive party is a donation of an auction item or monetary donation with a $50 minimum value.\n\n\n\nFestivities will be on Tuesday\, August 6\, 2013 5:30pm - 7:30pm (come and go).\n\n\n\nValet parking provided.\n\n\n\nYou MUST R.S.V.P. by July 31 for gate access\n\nbrandy.schimmel@verizon.net OR nineonedesign@verizon.net\n\n817-851-3475 817-690-6881
X-ALT-DESC;FMTTYPE=text/html:<br />\nGene and Cecilia Monacelli have graciously opened their home to host this year&#39\;s A Whimsical Evening Auction Party to support North Texas SNAP&#39\;s Annual Gala.<br />\n<br />\nGuests of this private event will enjoy delicious appetizers\, sangria\, beer and wine. In addition\, tickets to the event will be available for purchase as well as raffle tickets for an iPad or BBQ Grill.<br />\n<br />\nEntry into this exclusive party is a donation of an auction item or monetary donation with a $50 minimum value.<br />\n<br />\nFestivities will be on Tuesday\, August 6\, 2013 5:30pm - 7:30pm (come and go).<br />\n<br />\nValet parking provided.<br />\n<br />\n<strong>You MUST R.S.V.P. by July 31 for gate access</strong><br />\nbrandy.schimmel@verizon.net OR nineonedesign@verizon.net<br />\n817-851-3475 817-690-6881
LOCATION:2504 Meandering Court Colleyville\, TX 76034
UID:e.642.5703
SEQUENCE:3
DTSTAMP:20260422T175224Z
URL:https://business.colleyvillechamber.org/events/details/a-whimsical-evening-auction-party-north-texas-snap-08-06-2013-5703
END:VEVENT

END:VCALENDAR
