BEGIN:VCALENDAR
VERSION:2.0
PRODID:-//ChamberMaster//Event Calendar 2.0//EN
METHOD:PUBLISH
X-PUBLISHED-TTL:P3D
REFRESH-INTERVAL:P3D
CALSCALE:GREGORIAN
BEGIN:VEVENT
DTSTART:20130928T230000Z
DTEND:20130929T040000Z
X-MICROSOFT-CDO-ALLDAYEVENT:FALSE
SUMMARY:A Whimsical Evening with North Texas SNAP
DESCRIPTION:A Whimsical Evening with North Texas SNAP is an annual fundraising event including dinner\, dancing\, silent auction\, wishbowl packages and raffle. Funds from this event are used to create and support a variety of programs and services for individuals 17 and older living with intellectual disabilities.\n\n\n\nOur vision is to have a community where people with intellectual disabilities and their families have a network that supports independence\, choice and personal success. Sponsorships are available\, tickets are $65 ($75 after 8/16)\, and tables of 8 are $500 ($550 after 8/16). Get your tickets today!
X-ALT-DESC;FMTTYPE=text/html:A Whimsical Evening with North Texas SNAP is an annual fundraising event including dinner\, dancing\, silent auction\, wishbowl packages and raffle. Funds from this event are used to create and support a variety of programs and services for individuals 17 and older living with intellectual disabilities.<br />\n<br />\nOur vision is to have a community where people with intellectual disabilities and their families have a network that supports independence\, choice and personal success. Sponsorships are available\, tickets are $65 ($75 after 8/16)\, and tables of 8 are $500 ($550 after 8/16). Get your tickets today!
LOCATION:Hurst Conference Center
UID:e.642.5651
SEQUENCE:3
DTSTAMP:20260422T163007Z
URL:https://business.colleyvillechamber.org/events/details/a-whimsical-evening-with-north-texas-snap-09-28-2013-5651
END:VEVENT

END:VCALENDAR
