BEGIN:VCALENDAR
VERSION:2.0
PRODID:-//ChamberMaster//Event Calendar 2.0//EN
METHOD:PUBLISH
X-PUBLISHED-TTL:P3D
REFRESH-INTERVAL:P3D
CALSCALE:GREGORIAN
BEGIN:VEVENT
DTSTART;VALUE=DATE:20150420
DTEND;VALUE=DATE:20150425
TRANSP:TRANSPARENT
X-MICROSOFT-CDO-ALLDAYEVENT:TRUE
SUMMARY:Administration week April 20th-24th
DESCRIPTION:Administrative Professionals Day offer the perfect time to tell that amazing person in your office thank you for all the hard work they do!!!
X-ALT-DESC;FMTTYPE=text/html:Administrative Professionals Day offer the perfect time to tell that amazing person in your office thank you for all the hard work they do!!!
LOCATION:
UID:e.642.7779
SEQUENCE:3
DTSTAMP:20260421T105328Z
URL:https://business.colleyvillechamber.org/events/details/administration-week-april-20th-24th-04-20-2015-7779
END:VEVENT

END:VCALENDAR
