BEGIN:VCALENDAR
VERSION:2.0
PRODID:-//ChamberMaster//Event Calendar 2.0//EN
METHOD:PUBLISH
X-PUBLISHED-TTL:P3D
REFRESH-INTERVAL:P3D
CALSCALE:GREGORIAN
BEGIN:VEVENT
DTSTART:20230124T000000Z
DTEND:20230124T010000Z
X-MICROSOFT-CDO-ALLDAYEVENT:FALSE
SUMMARY:Adult Coloring Night
DESCRIPTION:Come join us for a fun event! Snacks\, Drinks\, Coloring and Fun! Dr. Ganschow will give a presentation on Integrative Medicine and the amazing results on how to live pain free.  RSVP to 817.485.2400. You don't want to miss it!
X-ALT-DESC;FMTTYPE=text/html:<span style="font-size:18px"><span style="background-color:rgb(255\, 255\, 255)\; color:rgb(5\, 5\, 5)\; font-family:segoe ui historic\,segoe ui\,helvetica\,arial\,sans-serif">Come join us for a fun event! Snacks\, Drinks\, Coloring and Fun! Dr. Ganschow will give a presentation on Integrative Medicine and the amazing results on how to live pain free.&nbsp\; RSVP to 817.485.2400.&nbsp\;</span></span><span style="color:rgb(5\, 5\, 5)\; font-family:segoe ui historic\,segoe ui\,helvetica\,arial\,sans-serif\; font-size:18px">You don&#39\;t want to miss it!&nbsp\;</span>
LOCATION:Back in Motion Integrated Medicine 104 Grapevine Hwy\, Suite 400 Hurst\, TX 76054
UID:e.642.27142
SEQUENCE:3
DTSTAMP:20260424T101258Z
URL:https://business.colleyvillechamber.org/events/details/adult-coloring-night-01-23-2023-27142
END:VEVENT

END:VCALENDAR
