BEGIN:VCALENDAR
VERSION:2.0
PRODID:-//ChamberMaster//Event Calendar 2.0//EN
METHOD:PUBLISH
X-PUBLISHED-TTL:P3D
REFRESH-INTERVAL:P3D
CALSCALE:GREGORIAN
BEGIN:VEVENT
DTSTART:20130327T170000Z
DTEND:20130327T180000Z
X-MICROSOFT-CDO-ALLDAYEVENT:FALSE
SUMMARY:Allergy Lunch and Learn
DESCRIPTION:v\\:* {behavior:url(#default#VML)\;}\no\\:* {behavior:url(#default#VML)\;}\nb\\:* {behavior:url(#default#VML)\;}\n.shape {behavior:url(#default#VML)\;}\n\n	You know sneezing and watery eyes are symptoms of allergies but did you also know \n\n	Hives\, eczema\, and abdominal bloating can be as well?\n\n	\n\n	Join Dr. Kotsanis and enjoy a delicious FREE lunch as he explains how to breathe easy\, stop sneezing\, and live without allergies!!!
X-ALT-DESC;FMTTYPE=text/html:<style type="text/css">\nv\\:* {behavior:url(#default#VML)\;}\no\\:* {behavior:url(#default#VML)\;}\nb\\:* {behavior:url(#default#VML)\;}\n.shape {behavior:url(#default#VML)\;}</style>\n<p class="MsoNormal">\n	<span style="color: rgb(51\, 153\, 51)\; font-family: &quot\;Century Gothic&quot\;\; font-size: 14pt\; mso-ansi-language: EN\; mso-default-font-family: &quot\;Century Gothic&quot\;\; mso-ascii-font-family: &quot\;Century Gothic&quot\;\; mso-latin-font-family: &quot\;Century Gothic&quot\;\; mso-greek-font-family: &quot\;Century Gothic&quot\;\; mso-cyrillic-font-family: &quot\;Century Gothic&quot\;\; mso-latinext-font-family: &quot\;Century Gothic&quot\;\; language: EN\;">You know sneezing and watery eyes are symptoms of allergies but did you also know&hellip\;</span></p>\n<p class="MsoNormal">\n	<span style="color: rgb(51\, 153\, 51)\; font-family: &quot\;Century Gothic&quot\;\; font-size: 14pt\; mso-ansi-language: EN\; mso-default-font-family: &quot\;Century Gothic&quot\;\; mso-ascii-font-family: &quot\;Century Gothic&quot\;\; mso-latin-font-family: &quot\;Century Gothic&quot\;\; mso-greek-font-family: &quot\;Century Gothic&quot\;\; mso-cyrillic-font-family: &quot\;Century Gothic&quot\;\; mso-latinext-font-family: &quot\;Century Gothic&quot\;\; language: EN\;">Hives\, eczema\, and abdominal bloating can be as well?<br />\n	<br />\n	Join Dr. Kotsanis and enjoy a delicious FREE lunch as he explains how to breathe easy\, stop sneezing\, and live without allergies!!!</span><br />\n	&nbsp\;</p>\n
LOCATION:Kotsanis Institute 2260 Pool Road Grapevine\, Texas 76051
UID:e.642.5610
SEQUENCE:3
DTSTAMP:20260423T015719Z
URL:https://business.colleyvillechamber.org/events/details/allergy-lunch-and-learn-03-27-2013-5610
END:VEVENT

END:VCALENDAR
