BEGIN:VCALENDAR
VERSION:2.0
PRODID:-//ChamberMaster//Event Calendar 2.0//EN
METHOD:PUBLISH
X-PUBLISHED-TTL:P3D
REFRESH-INTERVAL:P3D
CALSCALE:GREGORIAN
BEGIN:VEVENT
DTSTART:20130523T124500Z
DTEND:20130523T133000Z
X-MICROSOFT-CDO-ALLDAYEVENT:FALSE
SUMMARY:AM Business Development
DESCRIPTION:Looking to generate business referrals and get to know more people in your community?  Come visit this weekly networking group for fantastic business and personal development opportunities.  You have to eat lunch\, so why not build your network while you do it?  Bring a colleague and enjoy local\, professional business networking!
X-ALT-DESC;FMTTYPE=text/html:<div>\n	Looking to generate business referrals and get to know more people in your community?&nbsp\; Come visit this weekly networking group for fantastic business and personal development opportunities.&nbsp\; You have to eat lunch\, so why not build your network while you do it?&nbsp\; Bring a colleague and enjoy local\, professional business networking!</div>\n
LOCATION:Taylor Renovations 1101 Cheek-Sparger Rd.\, Ste. 106 Colleyville\, TX 76034
UID:e.642.5589
SEQUENCE:3
DTSTAMP:20260422T222348Z
URL:https://business.colleyvillechamber.org/events/details/am-business-development-05-23-2013-5589
END:VEVENT

END:VCALENDAR
