BEGIN:VCALENDAR
VERSION:2.0
PRODID:-//ChamberMaster//Event Calendar 2.0//EN
METHOD:PUBLISH
X-PUBLISHED-TTL:P3D
REFRESH-INTERVAL:P3D
CALSCALE:GREGORIAN
BEGIN:VEVENT
DTSTART:20120607T220000Z
DTEND:20120608T000000Z
X-MICROSOFT-CDO-ALLDAYEVENT:FALSE
SUMMARY:Anniversary Celebration - La De Da Pet Spa
DESCRIPTION:Celebrate the 2nd Year Anniversary with La De Da Pet Spa!
X-ALT-DESC;FMTTYPE=text/html:Celebrate the 2nd Year Anniversary with La De Da Pet Spa! 
LOCATION:6607 Colleyville Blvd. Colleyville\, TX 76034
UID:e.642.5050
SEQUENCE:3
DTSTAMP:20260423T165053Z
URL:https://business.colleyvillechamber.org/events/details/anniversary-celebration-la-de-da-pet-spa-06-07-2012-5050
END:VEVENT

END:VCALENDAR
