BEGIN:VCALENDAR
VERSION:2.0
PRODID:-//ChamberMaster//Event Calendar 2.0//EN
METHOD:PUBLISH
X-PUBLISHED-TTL:P3D
REFRESH-INTERVAL:P3D
CALSCALE:GREGORIAN
BEGIN:VEVENT
DTSTART:20140621T150000Z
DTEND:20140621T190000Z
X-MICROSOFT-CDO-ALLDAYEVENT:FALSE
SUMMARY:Anytime Fitness Grand Re-opening
DESCRIPTION:Anytime Fitness\n\n2350 Hall Johnson Rd.\, Ste. 150\n\nGrapevine\, TX  76051\n\n(817) 266-5044
X-ALT-DESC;FMTTYPE=text/html:Anytime Fitness<br />\n2350 Hall Johnson Rd.\, Ste. 150<br />\nGrapevine\, TX&nbsp\; 76051<br />\n(817) 266-5044<br />\n&nbsp\;
LOCATION:
UID:e.642.6898
SEQUENCE:3
DTSTAMP:20260422T014954Z
URL:https://business.colleyvillechamber.org/events/details/anytime-fitness-grand-re-opening-06-21-2014-6898
END:VEVENT

END:VCALENDAR
