BEGIN:VCALENDAR
VERSION:2.0
PRODID:-//ChamberMaster//Event Calendar 2.0//EN
METHOD:PUBLISH
X-PUBLISHED-TTL:P3D
REFRESH-INTERVAL:P3D
CALSCALE:GREGORIAN
BEGIN:VEVENT
DTSTART:20220811T150000Z
DTEND:20220811T160000Z
X-MICROSOFT-CDO-ALLDAYEVENT:FALSE
SUMMARY:Are You Cyber Secure?- Lantana Communications
DESCRIPTION:The past few years have highlighted just how large of a threat cybercrime is becoming. 2021 broke many records for cybersecurity statistics\, including the largest ransomware attack in history\, increased cyberattacks due to remote working\, and more money spent on cybersecurity than ever before. Being aware of the risks and tools available will help companies to protect themselves from the dangers that could lie ahead. Join Lantana Communications in this informative B2B cybersecurity webinar. All attendees will receive a Starbucks Gift card
X-ALT-DESC;FMTTYPE=text/html:The past few years have highlighted just how large of a threat cybercrime is becoming. 2021 broke many records for cybersecurity statistics\, including the largest ransomware attack in history\, increased cyberattacks due to remote working\, and more money spent on cybersecurity than ever before. Being aware of the risks and tools available will help companies to protect themselves from the dangers that could lie ahead. Join Lantana Communications in this informative B2B cybersecurity webinar. All attendees will receive a Starbucks Gift card
LOCATION:Virtual
UID:e.642.26578
SEQUENCE:3
DTSTAMP:20260424T210948Z
URL:https://business.colleyvillechamber.org/events/details/are-you-cyber-secure-lantana-communications-26578
END:VEVENT

END:VCALENDAR
