BEGIN:VCALENDAR
VERSION:2.0
PRODID:-//ChamberMaster//Event Calendar 2.0//EN
METHOD:PUBLISH
X-PUBLISHED-TTL:P3D
REFRESH-INTERVAL:P3D
CALSCALE:GREGORIAN
BEGIN:VEVENT
DTSTART:20140816T220000Z
DTEND:20140817T030000Z
X-MICROSOFT-CDO-ALLDAYEVENT:FALSE
SUMMARY:Area 51 Game Day
DESCRIPTION:Calling all Geeky Gamers - come join in the fun at Area 51 in Grapevine. We will host board games\, Magic the Gathering\, War Hammer 40 K and more. Check out this unique venue and gathering place for the whole family. Let me know what you're interested in and we'll make it happen!
X-ALT-DESC;FMTTYPE=text/html:Calling all Geeky Gamers - come join in the fun at Area 51 in Grapevine. We will host board games\, Magic the Gathering\, War Hammer 40 K and more. Check out this unique venue and gathering place for the whole family. Let me know what you&#39\;re interested in and we&#39\;ll make it happen!
LOCATION:Area 51 Gaming & Collectibles 201 North Barton Street\, Grapevine\, TX\, 76051
UID:e.642.6926
SEQUENCE:3
DTSTAMP:20260421T222101Z
URL:https://business.colleyvillechamber.org/events/details/area-51-game-day-08-16-2014-6926
END:VEVENT

END:VCALENDAR
