BEGIN:VCALENDAR
VERSION:2.0
PRODID:-//ChamberMaster//Event Calendar 2.0//EN
METHOD:PUBLISH
X-PUBLISHED-TTL:P3D
REFRESH-INTERVAL:P3D
CALSCALE:GREGORIAN
BEGIN:VEVENT
DTSTART:20120709T170000Z
DTEND:20120712T180000Z
X-MICROSOFT-CDO-ALLDAYEVENT:FALSE
SUMMARY:Art Camp: Express Yourself
DESCRIPTION:June 4th   7th 12:00   1:00   July 9th   12th 12:00   1:00   Ages 8-14\n\nCost: $100 each week\; plus $10 supply fee\n\nSessions will be taught by our Counselor and Art coordinator   Minimum of 4 students\n\n  The use of art can help facilitate expression of thoughts and emotions. Our art camp is designed to use various mediums including drawing\, painting\, and collage. Our experienced counselor and art coordinator will combine the use of art with therapeutic techniques to help children who are experiencing difficulties with self-esteem\, social relationships\, depression\, and anxiety.
X-ALT-DESC;FMTTYPE=text/html:June 4th &ndash\; 7th 12:00 &ndash\; 1:00 &bull\; July 9th &ndash\; 12th 12:00 &ndash\; 1:00 &bull\; Ages 8-14<br />\nCost: $100 each week\; plus $10 supply fee<br />\nSessions will be taught by our Counselor and Art coordinator &bull\; Minimum of 4 students<br />\n&bull\; The use of art can help facilitate expression of thoughts and emotions. Our art camp is designed to use various mediums including drawing\, painting\, and collage. Our experienced counselor and art coordinator will combine the use of art with therapeutic techniques to help children who are experiencing difficulties with self-esteem\, social relationships\, depression\, and anxiety.
LOCATION:PediaPlex - 2425 E. Southlake Blvd.\, Southlake\, TX 76092
UID:e.642.5045
SEQUENCE:3
DTSTAMP:20260423T151811Z
URL:https://business.colleyvillechamber.org/events/details/art-camp-express-yourself-07-09-2012-5045
END:VEVENT

END:VCALENDAR
