BEGIN:VCALENDAR
VERSION:2.0
PRODID:-//ChamberMaster//Event Calendar 2.0//EN
METHOD:PUBLISH
X-PUBLISHED-TTL:P3D
REFRESH-INTERVAL:P3D
CALSCALE:GREGORIAN
BEGIN:VEVENT
DTSTART:20130504T173000Z
DTEND:20130504T223000Z
X-MICROSOFT-CDO-ALLDAYEVENT:FALSE
SUMMARY:Arts Council Northeast's Triple Crown Affair at Lone Star Park
DESCRIPTION:Triple Crown Affair at Lone Star Park\n\nSaturday May 4\, 2013\n\n12:30 to 5:30 p.m.\n\n\n\nLavish buffet\, open bar\, live races\, live & silent auctions.  \n\n	 \n\n	Individual Tickets - $150 each\n\n	 \n\n	Contact   Lee Koch\n\n	lkoch@artscouncilnortheast.org\n\n	817.283.3406\n\n	Benefiting\n\n	Arts Council Northeast\n\n	www.artscouncilnortheast.org
X-ALT-DESC;FMTTYPE=text/html:<font face="Verdana" size="4">Triple Crown Affair at Lone Star Park<br />\nSaturday May 4\, 2013<br />\n12:30 to 5:30 p.m.</font><br />\n<br />\n<span style="font-size: large\;"><span style="font-size: medium\;">Lavish buffet\, open bar\, live races\, live &amp\; silent auctions.&nbsp\; </span></span>\n<p style="text-align: center\;">\n	&nbsp\;</p>\n<p style="text-align: center\;">\n	<span style="font-size: large\;"><span style="font-family: Verdana\;">Individual Tickets - $150 each</span></span></p>\n<p style="text-align: center\;">\n	&nbsp\;</p>\n<p style="text-align: center\;">\n	<span style="font-size: large\;"><span style="font-family: Verdana\;">Contact &ndash\; Lee Koch<br />\n	lkoch@artscouncilnortheast.org<br />\n	817.283.3406<br />\n	Benefiting<br />\n	Arts Council Northeast<br />\n	www.artscouncilnortheast.org</span></span></p>\n
LOCATION:
UID:e.642.5616
SEQUENCE:3
DTSTAMP:20260422T223102Z
URL:https://business.colleyvillechamber.org/events/details/arts-council-northeast-s-triple-crown-affair-at-lone-star-park-05-04-2013-5616
END:VEVENT

END:VCALENDAR
