BEGIN:VCALENDAR
VERSION:2.0
PRODID:-//ChamberMaster//Event Calendar 2.0//EN
METHOD:PUBLISH
X-PUBLISHED-TTL:P3D
REFRESH-INTERVAL:P3D
CALSCALE:GREGORIAN
BEGIN:VEVENT
DTSTART:20120510T220000Z
DTEND:20120510T230000Z
X-MICROSOFT-CDO-ALLDAYEVENT:FALSE
SUMMARY:Bansela\, LLC Ribbon Cutting
DESCRIPTION:
X-ALT-DESC;FMTTYPE=text/html:
LOCATION:1904 Industrial Blvd Suite 104 Colleyville\, TX 76034 Click here to edit...
UID:e.642.5034
SEQUENCE:3
DTSTAMP:20260423T182804Z
URL:https://business.colleyvillechamber.org/events/details/bansela-llc-ribbon-cutting-05-10-2012-5034
END:VEVENT

END:VCALENDAR
