BEGIN:VCALENDAR
VERSION:2.0
PRODID:-//ChamberMaster//Event Calendar 2.0//EN
METHOD:PUBLISH
X-PUBLISHED-TTL:P3D
REFRESH-INTERVAL:P3D
CALSCALE:GREGORIAN
BEGIN:VEVENT
DTSTART:20130419T200000Z
DTEND:20130419T220000Z
X-MICROSOFT-CDO-ALLDAYEVENT:FALSE
SUMMARY:Bargain Book Sale
DESCRIPTION:The Friends of the Colleyville Public Library hosts the annual Bargain Book Sale on April 19-20 at the library.  Friday\, April 19 is reserved for Friends members (3-5 p.m.).  The sale is open to the general public on Sat.\, April 20 from 10 a.m. to 2:30 p.m.  The annual sale includes books\, CDs\, videos\, and DVDs.
X-ALT-DESC;FMTTYPE=text/html:The Friends of the Colleyville Public Library hosts the annual Bargain Book Sale on April 19-20 at the library.&nbsp\; Friday\, April 19 is reserved for Friends members (3-5 p.m.).&nbsp\; The sale is open to the general public on Sat.\, April 20 from 10 a.m. to 2:30 p.m.&nbsp\; The annual sale includes books\, CDs\, videos\, and DVDs.
LOCATION:110 Main Street Colleyville\, TX
UID:e.642.5622
SEQUENCE:3
DTSTAMP:20260423T001141Z
URL:https://business.colleyvillechamber.org/events/details/bargain-book-sale-04-19-2013-5622
END:VEVENT

END:VCALENDAR
