BEGIN:VCALENDAR
VERSION:2.0
PRODID:-//ChamberMaster//Event Calendar 2.0//EN
METHOD:PUBLISH
X-PUBLISHED-TTL:P3D
REFRESH-INTERVAL:P3D
CALSCALE:GREGORIAN
BEGIN:VEVENT
DTSTART:20141211T000000Z
DTEND:20141211T030000Z
X-MICROSOFT-CDO-ALLDAYEVENT:FALSE
SUMMARY:Bear Creek Spirits & Wine Lamberto Art Show
DESCRIPTION:
X-ALT-DESC;FMTTYPE=text/html:
LOCATION:7101 Colleyville Blvd. Colleyville\, TX 76034
UID:e.642.7261
SEQUENCE:3
DTSTAMP:20260421T172254Z
URL:https://business.colleyvillechamber.org/events/details/bear-creek-spirits-wine-lamberto-art-show-12-10-2014-7261
END:VEVENT

END:VCALENDAR
