BEGIN:VCALENDAR
VERSION:2.0
PRODID:-//ChamberMaster//Event Calendar 2.0//EN
METHOD:PUBLISH
X-PUBLISHED-TTL:P3D
REFRESH-INTERVAL:P3D
CALSCALE:GREGORIAN
BEGIN:VEVENT
DTSTART:20140321T000000Z
DTEND:20140323T030000Z
X-MICROSOFT-CDO-ALLDAYEVENT:FALSE
SUMMARY:Beauty and the Beast
DESCRIPTION:Covenant Christian Academy\n\nPresents\n\nBeauty and the Beast\n\nOn the main stage of Redeemer Hall\n\n901 Cheek Sparger Road\, Colleyville\, TX\n\nThursday\, March 20 at 7:00 pm\n\nFriday\, March 21 at 7:00 pm\n\nSaturday\, March 22 at 2:00 pm and 7:00 pm\n\nReserved Seat Tickets are on sale after March 5\n\nvisit www.covenantchristian.net/boxoffice
X-ALT-DESC;FMTTYPE=text/html:<div style="text-align: center\;"><span style="font-size: 36px\;"><span style="font-family: times new roman\;"><span style="color: rgb(128\, 0\, 0)\;">Covenant Christian Academy</span></span></span></div>\n\n<div style="text-align: center\;">Presents</div>\n\n<h3 style="text-align: center\;"><span style="font-size: 36px\;"><span style="font-family: verdana\;"><span style="color: rgb(218\, 165\, 32)\;">Beauty and the Beast</span></span></span></h3>\n\n<div style="text-align: center\;">On the main stage of Redeemer Hall<br />\n901 Cheek Sparger Road\, Colleyville\, TX<br />\n<span style="font-size: 24px\;"><span style="color: rgb(178\, 34\, 34)\;">Thursday\, March 20 at 7:00 pm<br />\nFriday\, March 21 at 7:00 pm<br />\nSaturday\, March 22 at 2:00 pm and 7:00 pm</span></span><br />\nReserved Seat Tickets are on sale after March 5<br />\nvisit www.covenantchristian.net/boxoffice</div>\n<br />\n&nbsp\;
LOCATION:Covenant Christian Academy 901 Cheek Sparger Rd Colleyville\, TX
UID:e.642.6834
SEQUENCE:3
DTSTAMP:20260422T070042Z
URL:https://business.colleyvillechamber.org/events/details/beauty-and-the-beast-03-20-2014-6834
END:VEVENT

END:VCALENDAR
