BEGIN:VCALENDAR
VERSION:2.0
PRODID:-//ChamberMaster//Event Calendar 2.0//EN
METHOD:PUBLISH
X-PUBLISHED-TTL:P3D
REFRESH-INTERVAL:P3D
CALSCALE:GREGORIAN
BEGIN:VEVENT
DTSTART:20241109T150000Z
DTEND:20241109T211500Z
X-MICROSOFT-CDO-ALLDAYEVENT:FALSE
SUMMARY:Biblical Archaeology Conference: Unearthing the Historical Jesus
DESCRIPTION:Join us for an enlightening exploration into the life and times of Jesus of Nazareth through the lens of archaeology. This conference brings together renowned scholars and experts to present archaeological discoveries and research that affirm both the historical reality and divine identity of Jesus Christ. Engage in thought-provoking discussions and uncover ancient evidence that highlights the profound intersection of history\, archaeology\, and faith. Whether you're a scholar\, student\, or enthusiast\, this conference will deepen your understanding of Jesus as both Savior and Lord. Be equipped and encouraged at this faith-building conference on Saturday\, November 9. Hear from a dynamic lineup of speakers and participate in a live Q&A session. The event is free\, but registration is required.
X-ALT-DESC;FMTTYPE=text/html:Join us for an enlightening exploration into the life and times of Jesus of Nazareth through the lens of archaeology. This conference brings together renowned scholars and experts to present archaeological discoveries and research that affirm both the historical reality and divine identity of Jesus Christ. Engage in thought-provoking discussions and uncover ancient evidence that highlights the profound intersection of history\, archaeology\, and faith. Whether you&#39\;re a scholar\, student\, or enthusiast\, this conference will deepen your understanding of Jesus as both Savior and Lord. Be equipped and encouraged at this faith-building conference on Saturday\, November 9. Hear from a dynamic lineup of speakers and participate in a live Q&amp\;A session. The event is free\, but registration is required.
LOCATION:ICR Discovery Center 1830 Royal Lane Dallas\, TX 75229
UID:e.642.31019
SEQUENCE:3
DTSTAMP:20260423T004059Z
URL:https://business.colleyvillechamber.org/events/details/biblical-archaeology-conference-unearthing-the-historical-jesus-31019
END:VEVENT

END:VCALENDAR
